BEGIN:VCALENDAR
VERSION:2.0
PRODID:-//TRL New Hampshire - ECPv6.15.20//NONSGML v1.0//EN
CALSCALE:GREGORIAN
METHOD:PUBLISH
X-ORIGINAL-URL:https://nh.thereadingleague.org
X-WR-CALDESC:Events for TRL New Hampshire
REFRESH-INTERVAL;VALUE=DURATION:PT1H
X-Robots-Tag:noindex
X-PUBLISHED-TTL:PT1H
BEGIN:VTIMEZONE
TZID:America/New_York
BEGIN:DAYLIGHT
TZOFFSETFROM:-0500
TZOFFSETTO:-0400
TZNAME:EDT
DTSTART:20230312T070000
END:DAYLIGHT
BEGIN:STANDARD
TZOFFSETFROM:-0400
TZOFFSETTO:-0500
TZNAME:EST
DTSTART:20231105T060000
END:STANDARD
BEGIN:DAYLIGHT
TZOFFSETFROM:-0500
TZOFFSETTO:-0400
TZNAME:EDT
DTSTART:20240310T070000
END:DAYLIGHT
BEGIN:STANDARD
TZOFFSETFROM:-0400
TZOFFSETTO:-0500
TZNAME:EST
DTSTART:20241103T060000
END:STANDARD
BEGIN:DAYLIGHT
TZOFFSETFROM:-0500
TZOFFSETTO:-0400
TZNAME:EDT
DTSTART:20250309T070000
END:DAYLIGHT
BEGIN:STANDARD
TZOFFSETFROM:-0400
TZOFFSETTO:-0500
TZNAME:EST
DTSTART:20251102T060000
END:STANDARD
END:VTIMEZONE
BEGIN:VEVENT
DTSTART;VALUE=DATE:20241005
DTEND;VALUE=DATE:20241006
DTSTAMP:20260420T070918
CREATED:20240822T004418Z
LAST-MODIFIED:20240822T012635Z
UID:10000010-1728086400-1728172799@nh.thereadingleague.org
SUMMARY:NH Book Festival
DESCRIPTION:
URL:https://nh.thereadingleague.org/calendar/nh-book-festival/
LOCATION:Concord\, NH
CATEGORIES:Chapters
ATTACH;FMTTYPE=image/png:https://nh.thereadingleague.org/wp-content/uploads/sites/77/2024/08/Screen-Shot-2024-08-21-at-9.26.02-PM.png
END:VEVENT
BEGIN:VEVENT
DTSTART;TZID=America/New_York:20241004T170000
DTEND;TZID=America/New_York:20241004T190000
DTSTAMP:20260420T070918
CREATED:20240822T005521Z
LAST-MODIFIED:20240822T012359Z
UID:10000011-1728061200-1728068400@nh.thereadingleague.org
SUMMARY:Movie Screening & Panel Discussion - Hopeville: How to Win the Reading Wars
DESCRIPTION:
URL:https://nh.thereadingleague.org/calendar/https-www-zeffy-com-en-us-ticketing-f5269762-dd20-4b0a-a1ef-7619add7f4bc/
LOCATION:25 Hall Street\, Concord\, NH
CATEGORIES:Chapters
ATTACH;FMTTYPE=image/png:https://nh.thereadingleague.org/wp-content/uploads/sites/77/2024/08/Screen-Shot-2024-08-21-at-9.08.58-PM.png
END:VEVENT
BEGIN:VEVENT
DTSTART;TZID=America/New_York:20240910T160000
DTEND;TZID=America/New_York:20240910T170000
DTSTAMP:20260420T070918
CREATED:20240822T010710Z
LAST-MODIFIED:20240822T010710Z
UID:10000012-1725984000-1725987600@nh.thereadingleague.org
SUMMARY:Case Study Analysis: Connecting Data to Instructional Practices
DESCRIPTION:
URL:https://nh.thereadingleague.org/calendar/https-us02web-zoom-us-meeting-register-tzaodogvqz4pgtokq-z1ofvdpxkognynnyjh-registration/
CATEGORIES:Chapters
ATTACH;FMTTYPE=image/png:https://nh.thereadingleague.org/wp-content/uploads/sites/77/2024/08/Screen-Shot-2024-08-21-at-9.02.43-PM.png
LOCATION:https://nh.thereadingleague.org/calendar/https-us02web-zoom-us-meeting-register-tzaodogvqz4pgtokq-z1ofvdpxkognynnyjh-registration/
END:VEVENT
BEGIN:VEVENT
DTSTART;TZID=America/New_York:20240820T170000
DTEND;TZID=America/New_York:20240820T180000
DTSTAMP:20260420T070918
CREATED:20240818T004603Z
LAST-MODIFIED:20240829T134617Z
UID:10000009-1724173200-1724176800@nh.thereadingleague.org
SUMMARY:Teaching Phoneme Awareness: A Guide for Education 2024 with Jane Ashby\, PhD
DESCRIPTION:Want to view the recorded session? \nClick on the link below! \nhttps://thereadingleague-org.zoom.us/rec/share/Ihl0LOXfJet0VIAGAjXnv0X3H9DIvgvV_3D4XL_0ILgMzW9n3VXnHrSEUsSXPo8q.63bZnIHPBQrOgLxI\nPasscode: 5Nss=9L*
URL:https://nh.thereadingleague.org/calendar/teaching-phoneme-awareness-a-guide-for-education-2024-with-jane-ashby-phd/
CATEGORIES:Chapters
LOCATION:https://nh.thereadingleague.org/calendar/teaching-phoneme-awareness-a-guide-for-education-2024-with-jane-ashby-phd/
END:VEVENT
END:VCALENDAR